BEGIN:VCALENDAR
VERSION:2.0
PRODID:-//Everything Trackside - ECPv6.15.20//NONSGML v1.0//EN
CALSCALE:GREGORIAN
METHOD:PUBLISH
X-WR-CALNAME:Everything Trackside
X-ORIGINAL-URL:https://everythingtrackside.com
X-WR-CALDESC:Events for Everything Trackside
REFRESH-INTERVAL;VALUE=DURATION:PT1H
X-Robots-Tag:noindex
X-PUBLISHED-TTL:PT1H
BEGIN:VTIMEZONE
TZID:Europe/London
BEGIN:DAYLIGHT
TZOFFSETFROM:+0000
TZOFFSETTO:+0100
TZNAME:BST
DTSTART:20250330T010000
END:DAYLIGHT
BEGIN:STANDARD
TZOFFSETFROM:+0100
TZOFFSETTO:+0000
TZNAME:GMT
DTSTART:20251026T010000
END:STANDARD
BEGIN:DAYLIGHT
TZOFFSETFROM:+0000
TZOFFSETTO:+0100
TZNAME:BST
DTSTART:20260329T010000
END:DAYLIGHT
BEGIN:STANDARD
TZOFFSETFROM:+0100
TZOFFSETTO:+0000
TZNAME:GMT
DTSTART:20261025T010000
END:STANDARD
BEGIN:DAYLIGHT
TZOFFSETFROM:+0000
TZOFFSETTO:+0100
TZNAME:BST
DTSTART:20270328T010000
END:DAYLIGHT
BEGIN:STANDARD
TZOFFSETFROM:+0100
TZOFFSETTO:+0000
TZNAME:GMT
DTSTART:20271031T010000
END:STANDARD
END:VTIMEZONE
BEGIN:VEVENT
DTSTART;TZID=Europe/London:20260719T080000
DTEND;TZID=Europe/London:20260719T090000
DTSTAMP:20260420T012751
CREATED:20260325T152039Z
LAST-MODIFIED:20260325T152039Z
UID:36919-1784448000-1784451600@everythingtrackside.com
SUMMARY:Formula 3 Belgian Grand Prix Feature Race
DESCRIPTION:
URL:https://everythingtrackside.com/event/formula-3-belgian-grand-prix-feature-race/
LOCATION:Circuit de Spa – Francorchamps\, Spa - Francorchamps\, Belgium
END:VEVENT
BEGIN:VEVENT
DTSTART;TZID=Europe/London:20260719T100000
DTEND;TZID=Europe/London:20260719T110000
DTSTAMP:20260420T012751
CREATED:20260325T150320Z
LAST-MODIFIED:20260325T150320Z
UID:36870-1784455200-1784458800@everythingtrackside.com
SUMMARY:Formula 2 Belgian Grand Prix Feature Race
DESCRIPTION:
URL:https://everythingtrackside.com/event/formula-2-belgian-grand-prix-feature-race/
LOCATION:Circuit de Spa – Francorchamps\, Spa - Francorchamps\, Belgium
END:VEVENT
BEGIN:VEVENT
DTSTART;TZID=Europe/London:20260719T140000
DTEND;TZID=Europe/London:20260719T170000
DTSTAMP:20260420T012751
CREATED:20260322T191023Z
LAST-MODIFIED:20260322T191023Z
UID:35544-1784469600-1784480400@everythingtrackside.com
SUMMARY:Formula 1 Belgian Grand Prix
DESCRIPTION:
URL:https://everythingtrackside.com/event/formula-1-belgian-grand-prix/
LOCATION:Circuit de Spa – Francorchamps\, Spa - Francorchamps\, Belgium
END:VEVENT
END:VCALENDAR