BEGIN:VCALENDAR
VERSION:2.0
PRODID:-//Everything Trackside - ECPv6.15.20//NONSGML v1.0//EN
CALSCALE:GREGORIAN
METHOD:PUBLISH
X-WR-CALNAME:Everything Trackside
X-ORIGINAL-URL:https://everythingtrackside.com
X-WR-CALDESC:Events for Everything Trackside
REFRESH-INTERVAL;VALUE=DURATION:PT1H
X-Robots-Tag:noindex
X-PUBLISHED-TTL:PT1H
BEGIN:VTIMEZONE
TZID:Europe/London
BEGIN:DAYLIGHT
TZOFFSETFROM:+0000
TZOFFSETTO:+0100
TZNAME:BST
DTSTART:20250330T010000
END:DAYLIGHT
BEGIN:STANDARD
TZOFFSETFROM:+0100
TZOFFSETTO:+0000
TZNAME:GMT
DTSTART:20251026T010000
END:STANDARD
BEGIN:DAYLIGHT
TZOFFSETFROM:+0000
TZOFFSETTO:+0100
TZNAME:BST
DTSTART:20260329T010000
END:DAYLIGHT
BEGIN:STANDARD
TZOFFSETFROM:+0100
TZOFFSETTO:+0000
TZNAME:GMT
DTSTART:20261025T010000
END:STANDARD
BEGIN:DAYLIGHT
TZOFFSETFROM:+0000
TZOFFSETTO:+0100
TZNAME:BST
DTSTART:20270328T010000
END:DAYLIGHT
BEGIN:STANDARD
TZOFFSETFROM:+0100
TZOFFSETTO:+0000
TZNAME:GMT
DTSTART:20271031T010000
END:STANDARD
END:VTIMEZONE
BEGIN:VEVENT
DTSTART;TZID=Europe/London:20260717T080000
DTEND;TZID=Europe/London:20260717T090000
DTSTAMP:20260419T222930
CREATED:20260325T151845Z
LAST-MODIFIED:20260325T151845Z
UID:36913-1784275200-1784278800@everythingtrackside.com
SUMMARY:Formula 3 Belgian Grand Prix FP1
DESCRIPTION:
URL:https://everythingtrackside.com/event/formula-3-belgian-grand-prix-fp1/
LOCATION:Circuit de Spa – Francorchamps\, Spa - Francorchamps\, Belgium
END:VEVENT
BEGIN:VEVENT
DTSTART;TZID=Europe/London:20260717T100000
DTEND;TZID=Europe/London:20260717T110000
DTSTAMP:20260419T222930
CREATED:20260325T150057Z
LAST-MODIFIED:20260325T150057Z
UID:36864-1784282400-1784286000@everythingtrackside.com
SUMMARY:Formula 2 Belgian Grand Prix FP1
DESCRIPTION:
URL:https://everythingtrackside.com/event/formula-2-belgian-grand-prix-fp1/
LOCATION:Circuit de Spa – Francorchamps\, Spa - Francorchamps\, Belgium
END:VEVENT
BEGIN:VEVENT
DTSTART;TZID=Europe/London:20260717T123000
DTEND;TZID=Europe/London:20260717T133000
DTSTAMP:20260419T222930
CREATED:20260325T143845Z
LAST-MODIFIED:20260325T143845Z
UID:36811-1784291400-1784295000@everythingtrackside.com
SUMMARY:Formula 1 Belgian Grand Prix FP1
DESCRIPTION:
URL:https://everythingtrackside.com/event/formula-1-belgian-grand-prix-fp1/
LOCATION:Circuit de Spa – Francorchamps\, Spa - Francorchamps\, Belgium
END:VEVENT
BEGIN:VEVENT
DTSTART;TZID=Europe/London:20260717T130000
DTEND;TZID=Europe/London:20260717T140000
DTSTAMP:20260419T222930
CREATED:20260325T151923Z
LAST-MODIFIED:20260325T151923Z
UID:36915-1784293200-1784296800@everythingtrackside.com
SUMMARY:Formula 3 Belgian Grand Prix Qualifying
DESCRIPTION:
URL:https://everythingtrackside.com/event/formula-3-belgian-grand-prix-qualifying/
LOCATION:Circuit de Spa – Francorchamps\, Spa - Francorchamps\, Belgium
END:VEVENT
BEGIN:VEVENT
DTSTART;TZID=Europe/London:20260717T140000
DTEND;TZID=Europe/London:20260717T150000
DTSTAMP:20260419T222930
CREATED:20260325T150159Z
LAST-MODIFIED:20260325T150159Z
UID:36866-1784296800-1784300400@everythingtrackside.com
SUMMARY:Formula 2 Belgian Grand Prix Qualifying
DESCRIPTION:
URL:https://everythingtrackside.com/event/formula-2-belgian-grand-prix-qualifying/
LOCATION:Circuit de Spa – Francorchamps\, Spa - Francorchamps\, Belgium
END:VEVENT
BEGIN:VEVENT
DTSTART;TZID=Europe/London:20260717T160000
DTEND;TZID=Europe/London:20260717T170000
DTSTAMP:20260419T222930
CREATED:20260325T143921Z
LAST-MODIFIED:20260325T143921Z
UID:36813-1784304000-1784307600@everythingtrackside.com
SUMMARY:Formula 1 Belgian Grand Prix FP2
DESCRIPTION:
URL:https://everythingtrackside.com/event/formula-1-belgian-grand-prix-fp2/
LOCATION:Circuit de Spa – Francorchamps\, Spa - Francorchamps\, Belgium
END:VEVENT
END:VCALENDAR